BEGIN:VCALENDAR
VERSION:2.0
PRODID:-//Faith Christian School - ECPv6.15.18//NONSGML v1.0//EN
CALSCALE:GREGORIAN
METHOD:PUBLISH
X-WR-CALNAME:Faith Christian School
X-ORIGINAL-URL:https://www.fcslions.org
X-WR-CALDESC:Events for Faith Christian School
REFRESH-INTERVAL;VALUE=DURATION:PT1H
X-Robots-Tag:noindex
X-PUBLISHED-TTL:PT1H
BEGIN:VTIMEZONE
TZID:UTC
BEGIN:STANDARD
TZOFFSETFROM:+0000
TZOFFSETTO:+0000
TZNAME:UTC
DTSTART:20250101T000000
END:STANDARD
END:VTIMEZONE
BEGIN:VEVENT
DTSTART;TZID=UTC:20260420T000000
DTEND;TZID=UTC:20260420T235959
DTSTAMP:20260420T075812
CREATED:20251116T191613Z
LAST-MODIFIED:20251116T192339Z
UID:55292-1776643200-1776729599@www.fcslions.org
SUMMARY:ACHIEVEMENT TESTS
DESCRIPTION:
URL:https://www.fcslions.org/event/achievement-tests-21/
CATEGORIES:FCS Events
END:VEVENT
BEGIN:VEVENT
DTSTART;TZID=UTC:20260420T000000
DTEND;TZID=UTC:20260420T235959
DTSTAMP:20260420T075812
CREATED:20251116T191613Z
LAST-MODIFIED:20251116T192339Z
UID:55293-1776643200-1776729599@www.fcslions.org
SUMMARY:SENIOR CLASS TRIP
DESCRIPTION:
URL:https://www.fcslions.org/event/senior-class-trip-21/
CATEGORIES:FCS Events
END:VEVENT
BEGIN:VEVENT
DTSTART;TZID=UTC:20260421T000000
DTEND;TZID=UTC:20260421T235959
DTSTAMP:20260420T075812
CREATED:20251116T191617Z
LAST-MODIFIED:20251116T192339Z
UID:55295-1776729600-1776815999@www.fcslions.org
SUMMARY:ACHIEVEMENT TESTS
DESCRIPTION:
URL:https://www.fcslions.org/event/achievement-tests-22/
CATEGORIES:FCS Events
END:VEVENT
BEGIN:VEVENT
DTSTART;TZID=UTC:20260421T000000
DTEND;TZID=UTC:20260421T235959
DTSTAMP:20260420T075812
CREATED:20251116T191617Z
LAST-MODIFIED:20251116T192339Z
UID:55296-1776729600-1776815999@www.fcslions.org
SUMMARY:SENIOR CLASS TRIP
DESCRIPTION:
URL:https://www.fcslions.org/event/senior-class-trip-22/
CATEGORIES:FCS Events
END:VEVENT
BEGIN:VEVENT
DTSTART;TZID=UTC:20260421T000000
DTEND;TZID=UTC:20260421T235959
DTSTAMP:20260420T075812
CREATED:20251116T191617Z
LAST-MODIFIED:20251116T192339Z
UID:55294-1776729600-1776815999@www.fcslions.org
SUMMARY:ASVAB Test Juniors
DESCRIPTION:
URL:https://www.fcslions.org/event/asvab-test-juniors-5/
CATEGORIES:FCS Events
END:VEVENT
BEGIN:VEVENT
DTSTART;TZID=UTC:20260422T000000
DTEND;TZID=UTC:20260422T235959
DTSTAMP:20260420T075812
CREATED:20251116T191617Z
LAST-MODIFIED:20251116T192339Z
UID:55297-1776816000-1776902399@www.fcslions.org
SUMMARY:ACHIEVEMENT TESTS
DESCRIPTION:
URL:https://www.fcslions.org/event/achievement-tests-23/
CATEGORIES:FCS Events
END:VEVENT
BEGIN:VEVENT
DTSTART;TZID=UTC:20260422T000000
DTEND;TZID=UTC:20260422T235959
DTSTAMP:20260420T075812
CREATED:20251116T191617Z
LAST-MODIFIED:20251116T192339Z
UID:55298-1776816000-1776902399@www.fcslions.org
SUMMARY:SENIOR CLASS TRIP
DESCRIPTION:
URL:https://www.fcslions.org/event/senior-class-trip-23/
CATEGORIES:FCS Events
END:VEVENT
BEGIN:VEVENT
DTSTART;TZID=UTC:20260423T000000
DTEND;TZID=UTC:20260423T235959
DTSTAMP:20260420T075812
CREATED:20251116T191629Z
LAST-MODIFIED:20251116T192339Z
UID:55301-1776902400-1776988799@www.fcslions.org
SUMMARY:SENIOR CLASS TRIP
DESCRIPTION:
URL:https://www.fcslions.org/event/senior-class-trip-24/
CATEGORIES:FCS Events
END:VEVENT
BEGIN:VEVENT
DTSTART;TZID=UTC:20260423T000000
DTEND;TZID=UTC:20260423T235959
DTSTAMP:20260420T075812
CREATED:20251116T191629Z
LAST-MODIFIED:20251116T192339Z
UID:55300-1776902400-1776988799@www.fcslions.org
SUMMARY:ACHIEVEMENT TESTS
DESCRIPTION:
URL:https://www.fcslions.org/event/achievement-tests-24/
CATEGORIES:FCS Events
END:VEVENT
BEGIN:VEVENT
DTSTART;TZID=UTC:20260424T000000
DTEND;TZID=UTC:20260424T235959
DTSTAMP:20260420T075812
CREATED:20251116T191629Z
LAST-MODIFIED:20251116T192339Z
UID:55302-1776988800-1777075199@www.fcslions.org
SUMMARY:JEANS DAY
DESCRIPTION:
URL:https://www.fcslions.org/event/jeans-day-23/
CATEGORIES:FCS Events
END:VEVENT
BEGIN:VEVENT
DTSTART;TZID=UTC:20260424T000000
DTEND;TZID=UTC:20260424T235959
DTSTAMP:20260420T075812
CREATED:20251116T191629Z
LAST-MODIFIED:20251116T192339Z
UID:55303-1776988800-1777075199@www.fcslions.org
SUMMARY:ACHIEVEMENT TESTS
DESCRIPTION:
URL:https://www.fcslions.org/event/achievement-tests-25/
CATEGORIES:FCS Events
END:VEVENT
BEGIN:VEVENT
DTSTART;TZID=UTC:20260424T000000
DTEND;TZID=UTC:20260424T235959
DTSTAMP:20260420T075812
CREATED:20251116T191630Z
LAST-MODIFIED:20251116T192339Z
UID:55304-1776988800-1777075199@www.fcslions.org
SUMMARY:SENIOR CLASS TRIP
DESCRIPTION:
URL:https://www.fcslions.org/event/senior-class-trip-25/
CATEGORIES:FCS Events
END:VEVENT
BEGIN:VEVENT
DTSTART;TZID=UTC:20260429T000000
DTEND;TZID=UTC:20260429T235959
DTSTAMP:20260420T075812
CREATED:20251116T191634Z
LAST-MODIFIED:20251116T192339Z
UID:55305-1777420800-1777507199@www.fcslions.org
SUMMARY:CONCERT REHEARSAL
DESCRIPTION:
URL:https://www.fcslions.org/event/concert-rehearsal-8/
CATEGORIES:FCS Events
END:VEVENT
BEGIN:VEVENT
DTSTART;TZID=UTC:20260430T180000
DTEND;TZID=UTC:20260430T190000
DTSTAMP:20260420T075812
CREATED:20251116T181931Z
LAST-MODIFIED:20251116T192339Z
UID:54717-1777572000-1777575600@www.fcslions.org
SUMMARY:SPRING CONCERT
DESCRIPTION:
URL:https://www.fcslions.org/event/spring-concert/
CATEGORIES:FCS Events
END:VEVENT
END:VCALENDAR