BEGIN:VCALENDAR
VERSION:2.0
PRODID:-//Faith Christian School - ECPv6.15.18//NONSGML v1.0//EN
CALSCALE:GREGORIAN
METHOD:PUBLISH
X-WR-CALNAME:Faith Christian School
X-ORIGINAL-URL:https://www.fcslions.org
X-WR-CALDESC:Events for Faith Christian School
REFRESH-INTERVAL;VALUE=DURATION:PT1H
X-Robots-Tag:noindex
X-PUBLISHED-TTL:PT1H
BEGIN:VTIMEZONE
TZID:UTC
BEGIN:STANDARD
TZOFFSETFROM:+0000
TZOFFSETTO:+0000
TZNAME:UTC
DTSTART:20250101T000000
END:STANDARD
END:VTIMEZONE
BEGIN:VEVENT
DTSTART;TZID=UTC:20260330T000000
DTEND;TZID=UTC:20260330T235959
DTSTAMP:20260421T011003
CREATED:20251116T191557Z
LAST-MODIFIED:20251116T192339Z
UID:55282-1774828800-1774915199@www.fcslions.org
SUMMARY:4TH QTR BEGINS
DESCRIPTION:
URL:https://www.fcslions.org/event/4th-qtr-begins-5/
CATEGORIES:FCS Events
END:VEVENT
BEGIN:VEVENT
DTSTART;TZID=UTC:20260330T000000
DTEND;TZID=UTC:20260330T235959
DTSTAMP:20260421T011003
CREATED:20251116T191557Z
LAST-MODIFIED:20251116T192339Z
UID:55283-1774828800-1774915199@www.fcslions.org
SUMMARY:BEARING PRECIOUS SEED
DESCRIPTION:
URL:https://www.fcslions.org/event/bearing-precious-seed-13/
CATEGORIES:FCS Events
END:VEVENT
BEGIN:VEVENT
DTSTART;TZID=UTC:20260327T000000
DTEND;TZID=UTC:20260327T235959
DTSTAMP:20260421T011003
CREATED:20251116T191557Z
LAST-MODIFIED:20251116T192339Z
UID:55280-1774569600-1774655999@www.fcslions.org
SUMMARY:3RD QTR ENDS
DESCRIPTION:
URL:https://www.fcslions.org/event/3rd-qtr-ends-5/
CATEGORIES:FCS Events
END:VEVENT
BEGIN:VEVENT
DTSTART;TZID=UTC:20260327T000000
DTEND;TZID=UTC:20260327T235959
DTSTAMP:20260421T011003
CREATED:20251116T191557Z
LAST-MODIFIED:20251116T192339Z
UID:55281-1774569600-1774655999@www.fcslions.org
SUMMARY:JEANS DAY
DESCRIPTION:
URL:https://www.fcslions.org/event/jeans-day-22/
CATEGORIES:FCS Events
END:VEVENT
BEGIN:VEVENT
DTSTART;TZID=UTC:20260326T000000
DTEND;TZID=UTC:20260326T235959
DTSTAMP:20260421T011003
CREATED:20251116T191545Z
LAST-MODIFIED:20251116T192339Z
UID:55279-1774483200-1774569599@www.fcslions.org
SUMMARY:SCHOOL STORE
DESCRIPTION:
URL:https://www.fcslions.org/event/school-store-20/
CATEGORIES:FCS Events
END:VEVENT
BEGIN:VEVENT
DTSTART;TZID=UTC:20260319T143000
DTEND;TZID=UTC:20260319T153000
DTSTAMP:20260421T011003
CREATED:20251116T181342Z
LAST-MODIFIED:20251116T192339Z
UID:54686-1773930600-1773934200@www.fcslions.org
SUMMARY:HS MEETING
DESCRIPTION:
URL:https://www.fcslions.org/event/hs-meeting-2/
CATEGORIES:FCS Events
END:VEVENT
BEGIN:VEVENT
DTSTART;TZID=UTC:20260312T183000
DTEND;TZID=UTC:20260312T200000
DTSTAMP:20260421T011003
CREATED:20251116T181342Z
LAST-MODIFIED:20260204T145245Z
UID:54685-1773340200-1773345600@www.fcslions.org
SUMMARY:OPEN HOUSE
DESCRIPTION:
URL:https://www.fcslions.org/event/open-house/
CATEGORIES:FCS Events
END:VEVENT
BEGIN:VEVENT
DTSTART;TZID=UTC:20260311T000000
DTEND;TZID=UTC:20260311T235959
DTSTAMP:20260421T011003
CREATED:20251116T191545Z
LAST-MODIFIED:20251116T192339Z
UID:55278-1773187200-1773273599@www.fcslions.org
SUMMARY:PSAT 10's
DESCRIPTION:
URL:https://www.fcslions.org/event/psat-10s-4/
CATEGORIES:FCS Events
END:VEVENT
BEGIN:VEVENT
DTSTART;TZID=UTC:20260310T143000
DTEND;TZID=UTC:20260310T153000
DTSTAMP:20260421T011003
CREATED:20251116T181342Z
LAST-MODIFIED:20251116T192339Z
UID:54683-1773153000-1773156600@www.fcslions.org
SUMMARY:ALL FACULTY MTG
DESCRIPTION:
URL:https://www.fcslions.org/event/all-faculty-mtg-5/
CATEGORIES:FCS Events
END:VEVENT
BEGIN:VEVENT
DTSTART;TZID=UTC:20260308T000000
DTEND;TZID=UTC:20260308T235959
DTSTAMP:20260421T011003
CREATED:20251116T191528Z
LAST-MODIFIED:20251116T192339Z
UID:55277-1772928000-1773014399@www.fcslions.org
SUMMARY:TIME CHANGE
DESCRIPTION:
URL:https://www.fcslions.org/event/time-change-4/
CATEGORIES:FCS Events
END:VEVENT
BEGIN:VEVENT
DTSTART;TZID=UTC:20260306T000000
DTEND;TZID=UTC:20260306T235959
DTSTAMP:20260421T011003
CREATED:20251116T191528Z
LAST-MODIFIED:20251116T192339Z
UID:55275-1772755200-1772841599@www.fcslions.org
SUMMARY:NO SCHOOL
DESCRIPTION:
URL:https://www.fcslions.org/event/no-school-33/
CATEGORIES:FCS Events
END:VEVENT
BEGIN:VEVENT
DTSTART;TZID=UTC:20260306T000000
DTEND;TZID=UTC:20260306T235959
DTSTAMP:20260421T011003
CREATED:20251116T191528Z
LAST-MODIFIED:20251116T191528Z
UID:55276-1772755200-1772841599@www.fcslions.org
SUMMARY:P/T Conference
DESCRIPTION:
URL:https://www.fcslions.org/event/p-t-conference-12/
END:VEVENT
BEGIN:VEVENT
DTSTART;TZID=UTC:20260305T000000
DTEND;TZID=UTC:20260305T235959
DTSTAMP:20260421T011003
CREATED:20251116T191528Z
LAST-MODIFIED:20251116T191528Z
UID:55273-1772668800-1772755199@www.fcslions.org
SUMMARY:P/T Conference
DESCRIPTION:
URL:https://www.fcslions.org/event/p-t-conference-11/
END:VEVENT
BEGIN:VEVENT
DTSTART;TZID=UTC:20260305T000000
DTEND;TZID=UTC:20260305T235959
DTSTAMP:20260421T011003
CREATED:20251116T191515Z
LAST-MODIFIED:20251116T191515Z
UID:55272-1772668800-1772755199@www.fcslions.org
SUMMARY:11AM DISMISSAL
DESCRIPTION:
URL:https://www.fcslions.org/event/11am-dismissal-26/
END:VEVENT
BEGIN:VEVENT
DTSTART;TZID=UTC:20260227T000000
DTEND;TZID=UTC:20260227T235959
DTSTAMP:20260421T011003
CREATED:20251116T191515Z
LAST-MODIFIED:20251116T191515Z
UID:55271-1772150400-1772236799@www.fcslions.org
SUMMARY:JEANS DAY
DESCRIPTION:
URL:https://www.fcslions.org/event/jeans-day-21/
END:VEVENT
BEGIN:VEVENT
DTSTART;TZID=UTC:20260224T000000
DTEND;TZID=UTC:20260224T235959
DTSTAMP:20260421T011003
CREATED:20251116T191515Z
LAST-MODIFIED:20251116T191515Z
UID:55270-1771891200-1771977599@www.fcslions.org
SUMMARY:Progress Reports
DESCRIPTION:
URL:https://www.fcslions.org/event/progress-reports-19/
END:VEVENT
BEGIN:VEVENT
DTSTART;TZID=UTC:20260216T000000
DTEND;TZID=UTC:20260216T235959
DTSTAMP:20260421T011003
CREATED:20251116T191515Z
LAST-MODIFIED:20251116T191515Z
UID:55269-1771200000-1771286399@www.fcslions.org
SUMMARY:PRESIDENTS DAY
DESCRIPTION:
URL:https://www.fcslions.org/event/presidents-day-5/
END:VEVENT
BEGIN:VEVENT
DTSTART;TZID=UTC:20260216T000000
DTEND;TZID=UTC:20260216T235959
DTSTAMP:20260421T011003
CREATED:20251116T191514Z
LAST-MODIFIED:20251116T191514Z
UID:55268-1771200000-1771286399@www.fcslions.org
SUMMARY:NO SCHOOL
DESCRIPTION:
URL:https://www.fcslions.org/event/no-school-32/
END:VEVENT
BEGIN:VEVENT
DTSTART;TZID=UTC:20260210T143000
DTEND;TZID=UTC:20260210T153000
DTSTAMP:20260421T011003
CREATED:20251116T181034Z
LAST-MODIFIED:20251116T191512Z
UID:54671-1770733800-1770737400@www.fcslions.org
SUMMARY:ALL FACULTY MTG
DESCRIPTION:
URL:https://www.fcslions.org/event/all-faculty-mtg-4/
END:VEVENT
BEGIN:VEVENT
DTSTART;TZID=UTC:20260205T143000
DTEND;TZID=UTC:20260205T153000
DTSTAMP:20260421T011003
CREATED:20251116T181034Z
LAST-MODIFIED:20251116T191512Z
UID:54670-1770301800-1770305400@www.fcslions.org
SUMMARY:MS MEETING
DESCRIPTION:
URL:https://www.fcslions.org/event/ms-meeting-2/
END:VEVENT
BEGIN:VEVENT
DTSTART;TZID=UTC:20260130T000000
DTEND;TZID=UTC:20260130T235959
DTSTAMP:20260421T011003
CREATED:20251116T191512Z
LAST-MODIFIED:20251116T191512Z
UID:55267-1769731200-1769817599@www.fcslions.org
SUMMARY:JEANS DAY
DESCRIPTION:
URL:https://www.fcslions.org/event/jeans-day-20/
END:VEVENT
BEGIN:VEVENT
DTSTART;TZID=UTC:20260129T000000
DTEND;TZID=UTC:20260129T235959
DTSTAMP:20260421T011003
CREATED:20251116T191512Z
LAST-MODIFIED:20251116T191512Z
UID:55266-1769644800-1769731199@www.fcslions.org
SUMMARY:SCHOOL STORE
DESCRIPTION:
URL:https://www.fcslions.org/event/school-store-19/
END:VEVENT
BEGIN:VEVENT
DTSTART;TZID=UTC:20260127T190000
DTEND;TZID=UTC:20260127T200000
DTSTAMP:20260421T011003
CREATED:20251116T181033Z
LAST-MODIFIED:20251116T191512Z
UID:54667-1769540400-1769544000@www.fcslions.org
SUMMARY:ASSOCIATION MEETING
DESCRIPTION:
URL:https://www.fcslions.org/event/association-meeting/
END:VEVENT
BEGIN:VEVENT
DTSTART;TZID=UTC:20260127T183000
DTEND;TZID=UTC:20260127T190000
DTSTAMP:20260421T011003
CREATED:20251116T181018Z
LAST-MODIFIED:20251116T191459Z
UID:54666-1769538600-1769540400@www.fcslions.org
SUMMARY:ASSOCIATION REFRESH
DESCRIPTION:
URL:https://www.fcslions.org/event/association-refresh/
END:VEVENT
BEGIN:VEVENT
DTSTART;TZID=UTC:20260127T000000
DTEND;TZID=UTC:20260127T235959
DTSTAMP:20260421T011003
CREATED:20251116T191459Z
LAST-MODIFIED:20251116T191459Z
UID:55265-1769472000-1769558399@www.fcslions.org
SUMMARY:REPORT CARDS
DESCRIPTION:
URL:https://www.fcslions.org/event/report-cards-14/
END:VEVENT
BEGIN:VEVENT
DTSTART;TZID=UTC:20260122T000000
DTEND;TZID=UTC:20260122T235959
DTSTAMP:20260421T011003
CREATED:20251116T191459Z
LAST-MODIFIED:20251116T191459Z
UID:55264-1769040000-1769126399@www.fcslions.org
SUMMARY:3RD QTR BEGINS
DESCRIPTION:
URL:https://www.fcslions.org/event/3rd-qtr-begins-5/
END:VEVENT
BEGIN:VEVENT
DTSTART;TZID=UTC:20260121T000000
DTEND;TZID=UTC:20260121T235959
DTSTAMP:20260421T011003
CREATED:20251116T191459Z
LAST-MODIFIED:20251116T191459Z
UID:55263-1768953600-1769039999@www.fcslions.org
SUMMARY:Semester Finals
DESCRIPTION:
URL:https://www.fcslions.org/event/semester-finals-15/
END:VEVENT
BEGIN:VEVENT
DTSTART;TZID=UTC:20260121T000000
DTEND;TZID=UTC:20260121T235959
DTSTAMP:20260421T011003
CREATED:20251116T191459Z
LAST-MODIFIED:20251116T191459Z
UID:55262-1768953600-1769039999@www.fcslions.org
SUMMARY:2ND QTR ENDS
DESCRIPTION:
URL:https://www.fcslions.org/event/2nd-qtr-ends-5/
END:VEVENT
BEGIN:VEVENT
DTSTART;TZID=UTC:20260120T000000
DTEND;TZID=UTC:20260120T235959
DTSTAMP:20260421T011003
CREATED:20251116T191456Z
LAST-MODIFIED:20251116T191456Z
UID:55261-1768867200-1768953599@www.fcslions.org
SUMMARY:Semester Finals
DESCRIPTION:
URL:https://www.fcslions.org/event/semester-finals-14/
END:VEVENT
BEGIN:VEVENT
DTSTART;TZID=UTC:20260119T000000
DTEND;TZID=UTC:20260119T235959
DTSTAMP:20260421T011003
CREATED:20251116T191456Z
LAST-MODIFIED:20251116T191456Z
UID:55259-1768780800-1768867199@www.fcslions.org
SUMMARY:NO SCHOOL
DESCRIPTION:
URL:https://www.fcslions.org/event/no-school-31/
END:VEVENT
END:VCALENDAR