BEGIN:VCALENDAR
VERSION:2.0
PRODID:-//Faith Christian School - ECPv6.15.18//NONSGML v1.0//EN
CALSCALE:GREGORIAN
METHOD:PUBLISH
X-WR-CALNAME:Faith Christian School
X-ORIGINAL-URL:https://www.fcslions.org
X-WR-CALDESC:Events for Faith Christian School
REFRESH-INTERVAL;VALUE=DURATION:PT1H
X-Robots-Tag:noindex
X-PUBLISHED-TTL:PT1H
BEGIN:VTIMEZONE
TZID:UTC
BEGIN:STANDARD
TZOFFSETFROM:+0000
TZOFFSETTO:+0000
TZNAME:UTC
DTSTART:20240101T000000
END:STANDARD
END:VTIMEZONE
BEGIN:VEVENT
DTSTART;TZID=UTC:20251202T000000
DTEND;TZID=UTC:20251202T235959
DTSTAMP:20260422T002854
CREATED:20251116T191413Z
LAST-MODIFIED:20251116T191413Z
UID:55242-1764633600-1764719999@www.fcslions.org
SUMMARY:COLLEGE & CAREER
DESCRIPTION:
URL:https://www.fcslions.org/event/college-career-4/
END:VEVENT
BEGIN:VEVENT
DTSTART;TZID=UTC:20251201T000000
DTEND;TZID=UTC:20251201T235959
DTSTAMP:20260422T002854
CREATED:20251116T191413Z
LAST-MODIFIED:20251116T191413Z
UID:55241-1764547200-1764633599@www.fcslions.org
SUMMARY:THANKSGIVING BREAK
DESCRIPTION:
URL:https://www.fcslions.org/event/thanksgiving-break-15/
END:VEVENT
BEGIN:VEVENT
DTSTART;TZID=UTC:20251128T000000
DTEND;TZID=UTC:20251128T235959
DTSTAMP:20260422T002854
CREATED:20251116T191413Z
LAST-MODIFIED:20251116T191413Z
UID:55240-1764288000-1764374399@www.fcslions.org
SUMMARY:THANKSGIVING BREAK
DESCRIPTION:
URL:https://www.fcslions.org/event/thanksgiving-break-14/
END:VEVENT
BEGIN:VEVENT
DTSTART;TZID=UTC:20251128T000000
DTEND;TZID=UTC:20251128T235959
DTSTAMP:20260422T002854
CREATED:20251116T191413Z
LAST-MODIFIED:20251116T191413Z
UID:55239-1764288000-1764374399@www.fcslions.org
SUMMARY:NO SCHOOL
DESCRIPTION:
URL:https://www.fcslions.org/event/no-school-30/
END:VEVENT
BEGIN:VEVENT
DTSTART;TZID=UTC:20251127T000000
DTEND;TZID=UTC:20251127T235959
DTSTAMP:20260422T002854
CREATED:20251116T191412Z
LAST-MODIFIED:20251116T191412Z
UID:55238-1764201600-1764287999@www.fcslions.org
SUMMARY:THANKSGIVING BREAK
DESCRIPTION:
URL:https://www.fcslions.org/event/thanksgiving-break-13/
END:VEVENT
BEGIN:VEVENT
DTSTART;TZID=UTC:20251127T000000
DTEND;TZID=UTC:20251127T235959
DTSTAMP:20260422T002855
CREATED:20251116T191409Z
LAST-MODIFIED:20251116T191409Z
UID:55237-1764201600-1764287999@www.fcslions.org
SUMMARY:NO SCHOOL
DESCRIPTION:
URL:https://www.fcslions.org/event/no-school-29/
END:VEVENT
BEGIN:VEVENT
DTSTART;TZID=UTC:20251126T000000
DTEND;TZID=UTC:20251126T235959
DTSTAMP:20260422T002855
CREATED:20251116T191409Z
LAST-MODIFIED:20251116T191409Z
UID:55236-1764115200-1764201599@www.fcslions.org
SUMMARY:11AM DISMISSAL
DESCRIPTION:
URL:https://www.fcslions.org/event/11am-dismissal-24/
END:VEVENT
BEGIN:VEVENT
DTSTART;TZID=UTC:20251124T000000
DTEND;TZID=UTC:20251124T235959
DTSTAMP:20260422T002855
CREATED:20251116T191409Z
LAST-MODIFIED:20251116T191916Z
UID:55235-1763942400-1764028799@www.fcslions.org
SUMMARY:WINTER SPORTS PIX
DESCRIPTION:
URL:https://www.fcslions.org/event/winter-sports-pix-5/
CATEGORIES:FCS Events
END:VEVENT
BEGIN:VEVENT
DTSTART;TZID=UTC:20251124T000000
DTEND;TZID=UTC:20251124T235959
DTSTAMP:20260422T002855
CREATED:20251116T191409Z
LAST-MODIFIED:20251116T191409Z
UID:55233-1763942400-1764028799@www.fcslions.org
SUMMARY:PICTURE RETAKES
DESCRIPTION:
URL:https://www.fcslions.org/event/picture-retakes-5/
END:VEVENT
BEGIN:VEVENT
DTSTART;TZID=UTC:20251124T000000
DTEND;TZID=UTC:20251124T235959
DTSTAMP:20260422T002855
CREATED:20251116T191409Z
LAST-MODIFIED:20251116T191409Z
UID:55234-1763942400-1764028799@www.fcslions.org
SUMMARY:SENIOR PORTRAITS
DESCRIPTION:
URL:https://www.fcslions.org/event/senior-portraits-5/
END:VEVENT
BEGIN:VEVENT
DTSTART;TZID=UTC:20251121T000000
DTEND;TZID=UTC:20251121T235959
DTSTAMP:20260422T002855
CREATED:20251116T191339Z
LAST-MODIFIED:20251116T191339Z
UID:55231-1763683200-1763769599@www.fcslions.org
SUMMARY:JEANS DAY
DESCRIPTION:
URL:https://www.fcslions.org/event/jeans-day-19/
END:VEVENT
BEGIN:VEVENT
DTSTART;TZID=UTC:20251121T000000
DTEND;TZID=UTC:20251121T235959
DTSTAMP:20260422T002855
CREATED:20251116T191339Z
LAST-MODIFIED:20251116T191339Z
UID:55232-1763683200-1763769599@www.fcslions.org
SUMMARY:HS OCC PACK
DESCRIPTION:
URL:https://www.fcslions.org/event/hs-occ-pack-4/
END:VEVENT
BEGIN:VEVENT
DTSTART;TZID=UTC:20251120T000000
DTEND;TZID=UTC:20251120T235959
DTSTAMP:20260422T002855
CREATED:20251116T191339Z
LAST-MODIFIED:20251116T191339Z
UID:55230-1763596800-1763683199@www.fcslions.org
SUMMARY:OCC ELEM PACK
DESCRIPTION:
URL:https://www.fcslions.org/event/occ-elem-pack-4/
END:VEVENT
BEGIN:VEVENT
DTSTART;TZID=UTC:20251120T000000
DTEND;TZID=UTC:20251120T235959
DTSTAMP:20260422T002855
CREATED:20251116T191339Z
LAST-MODIFIED:20251116T191339Z
UID:55229-1763596800-1763683199@www.fcslions.org
SUMMARY:SCHOOL STORE
DESCRIPTION:
URL:https://www.fcslions.org/event/school-store-18/
END:VEVENT
BEGIN:VEVENT
DTSTART;TZID=UTC:20251111T143000
DTEND;TZID=UTC:20251111T153000
DTSTAMP:20260422T002855
CREATED:20251116T180556Z
LAST-MODIFIED:20251116T191339Z
UID:54617-1762871400-1762875000@www.fcslions.org
SUMMARY:ALL FACULTY MTG
DESCRIPTION:
URL:https://www.fcslions.org/event/all-faculty-mtg/
END:VEVENT
BEGIN:VEVENT
DTSTART;TZID=UTC:20251110T143000
DTEND;TZID=UTC:20251110T153000
DTSTAMP:20260422T002855
CREATED:20251116T180555Z
LAST-MODIFIED:20251116T191338Z
UID:54616-1762785000-1762788600@www.fcslions.org
SUMMARY:ELEM SCIENCE CLUB
DESCRIPTION:
URL:https://www.fcslions.org/event/elem-science-club/
END:VEVENT
BEGIN:VEVENT
DTSTART;TZID=UTC:20251107T000000
DTEND;TZID=UTC:20251107T235959
DTSTAMP:20260422T002855
CREATED:20251116T191338Z
LAST-MODIFIED:20251116T191338Z
UID:55228-1762473600-1762559999@www.fcslions.org
SUMMARY:7th MUSEUM FieldTrip
DESCRIPTION:
URL:https://www.fcslions.org/event/7th-museum-fieldtrip-4/
END:VEVENT
BEGIN:VEVENT
DTSTART;TZID=UTC:20251106T143000
DTEND;TZID=UTC:20251106T153000
DTSTAMP:20260422T002855
CREATED:20251116T180555Z
LAST-MODIFIED:20251116T191338Z
UID:54614-1762439400-1762443000@www.fcslions.org
SUMMARY:MS MEETING
DESCRIPTION:
URL:https://www.fcslions.org/event/ms-meeting/
END:VEVENT
BEGIN:VEVENT
DTSTART;TZID=UTC:20251104T143000
DTEND;TZID=UTC:20251104T153000
DTSTAMP:20260422T002855
CREATED:20251116T180555Z
LAST-MODIFIED:20251116T191338Z
UID:54613-1762266600-1762270200@www.fcslions.org
SUMMARY:ELEM CRAFT CLUB
DESCRIPTION:
URL:https://www.fcslions.org/event/elem-craft-club/
END:VEVENT
BEGIN:VEVENT
DTSTART;TZID=UTC:20251104T000000
DTEND;TZID=UTC:20251104T235959
DTSTAMP:20260422T002855
CREATED:20251116T191337Z
LAST-MODIFIED:20251116T191337Z
UID:55227-1762214400-1762300799@www.fcslions.org
SUMMARY:REPORT CARDS
DESCRIPTION:
URL:https://www.fcslions.org/event/report-cards-13/
END:VEVENT
END:VCALENDAR