BEGIN:VCALENDAR
VERSION:2.0
PRODID:-//Faith Christian School - ECPv6.15.18//NONSGML v1.0//EN
CALSCALE:GREGORIAN
METHOD:PUBLISH
X-WR-CALNAME:Faith Christian School
X-ORIGINAL-URL:https://www.fcslions.org
X-WR-CALDESC:Events for Faith Christian School
REFRESH-INTERVAL;VALUE=DURATION:PT1H
X-Robots-Tag:noindex
X-PUBLISHED-TTL:PT1H
BEGIN:VTIMEZONE
TZID:UTC
BEGIN:STANDARD
TZOFFSETFROM:+0000
TZOFFSETTO:+0000
TZNAME:UTC
DTSTART:20250101T000000
END:STANDARD
END:VTIMEZONE
BEGIN:VEVENT
DTSTART;TZID=UTC:20260508T000000
DTEND;TZID=UTC:20260508T235959
DTSTAMP:20260420T173653
CREATED:20251116T191646Z
LAST-MODIFIED:20251116T192338Z
UID:55310-1778198400-1778284799@www.fcslions.org
SUMMARY:SIGHT & SOUND HS
DESCRIPTION:
URL:https://www.fcslions.org/event/sight-sound-hs-4/
CATEGORIES:FCS Events
END:VEVENT
BEGIN:VEVENT
DTSTART;TZID=UTC:20260508T000000
DTEND;TZID=UTC:20260508T235959
DTSTAMP:20260420T173653
CREATED:20251116T191646Z
LAST-MODIFIED:20251116T192338Z
UID:55311-1778198400-1778284799@www.fcslions.org
SUMMARY:ORCHARD HILL 8TH FT
DESCRIPTION:
URL:https://www.fcslions.org/event/orchard-hill-8th-ft-8/
CATEGORIES:FCS Events
END:VEVENT
END:VCALENDAR