BEGIN:VCALENDAR
VERSION:2.0
PRODID:-//Faith Christian School - ECPv6.15.18//NONSGML v1.0//EN
CALSCALE:GREGORIAN
METHOD:PUBLISH
X-ORIGINAL-URL:https://www.fcslions.org
X-WR-CALDESC:Events for Faith Christian School
REFRESH-INTERVAL;VALUE=DURATION:PT1H
X-Robots-Tag:noindex
X-PUBLISHED-TTL:PT1H
BEGIN:VTIMEZONE
TZID:UTC
BEGIN:STANDARD
TZOFFSETFROM:+0000
TZOFFSETTO:+0000
TZNAME:UTC
DTSTART:20250101T000000
END:STANDARD
END:VTIMEZONE
BEGIN:VEVENT
DTSTART;TZID=UTC:20260330T000000
DTEND;TZID=UTC:20260330T235959
DTSTAMP:20260420T130412
CREATED:20251116T191557Z
LAST-MODIFIED:20251116T192339Z
UID:55283-1774828800-1774915199@www.fcslions.org
SUMMARY:BEARING PRECIOUS SEED
DESCRIPTION:
URL:https://www.fcslions.org/event/bearing-precious-seed-13/
CATEGORIES:FCS Events
END:VEVENT
BEGIN:VEVENT
DTSTART;TZID=UTC:20260330T000000
DTEND;TZID=UTC:20260330T235959
DTSTAMP:20260420T130412
CREATED:20251116T191557Z
LAST-MODIFIED:20251116T192339Z
UID:55282-1774828800-1774915199@www.fcslions.org
SUMMARY:4TH QTR BEGINS
DESCRIPTION:
URL:https://www.fcslions.org/event/4th-qtr-begins-5/
CATEGORIES:FCS Events
END:VEVENT
END:VCALENDAR