BEGIN:VCALENDAR
VERSION:2.0
PRODID:-//Faith Christian School - ECPv6.15.18//NONSGML v1.0//EN
CALSCALE:GREGORIAN
METHOD:PUBLISH
X-ORIGINAL-URL:https://www.fcslions.org
X-WR-CALDESC:Events for Faith Christian School
REFRESH-INTERVAL;VALUE=DURATION:PT1H
X-Robots-Tag:noindex
X-PUBLISHED-TTL:PT1H
BEGIN:VTIMEZONE
TZID:UTC
BEGIN:STANDARD
TZOFFSETFROM:+0000
TZOFFSETTO:+0000
TZNAME:UTC
DTSTART:20250101T000000
END:STANDARD
END:VTIMEZONE
BEGIN:VEVENT
DTSTART;TZID=UTC:20260326T000000
DTEND;TZID=UTC:20260326T235959
DTSTAMP:20260420T183139
CREATED:20251116T191545Z
LAST-MODIFIED:20251116T192339Z
UID:55279-1774483200-1774569599@www.fcslions.org
SUMMARY:SCHOOL STORE
DESCRIPTION:
URL:https://www.fcslions.org/event/school-store-20/
CATEGORIES:FCS Events
END:VEVENT
END:VCALENDAR