BEGIN:VCALENDAR
VERSION:2.0
PRODID:-//Faith Christian School - ECPv6.15.18//NONSGML v1.0//EN
CALSCALE:GREGORIAN
METHOD:PUBLISH
X-ORIGINAL-URL:https://www.fcslions.org
X-WR-CALDESC:Events for Faith Christian School
REFRESH-INTERVAL;VALUE=DURATION:PT1H
X-Robots-Tag:noindex
X-PUBLISHED-TTL:PT1H
BEGIN:VTIMEZONE
TZID:UTC
BEGIN:STANDARD
TZOFFSETFROM:+0000
TZOFFSETTO:+0000
TZNAME:UTC
DTSTART:20250101T000000
END:STANDARD
END:VTIMEZONE
BEGIN:VEVENT
DTSTART;TZID=UTC:20260121T000000
DTEND;TZID=UTC:20260121T235959
DTSTAMP:20260421T055406
CREATED:20251116T191459Z
LAST-MODIFIED:20251116T191459Z
UID:55262-1768953600-1769039999@www.fcslions.org
SUMMARY:2ND QTR ENDS
DESCRIPTION:
URL:https://www.fcslions.org/event/2nd-qtr-ends-5/
END:VEVENT
BEGIN:VEVENT
DTSTART;TZID=UTC:20260121T000000
DTEND;TZID=UTC:20260121T235959
DTSTAMP:20260421T055406
CREATED:20251116T191459Z
LAST-MODIFIED:20251116T191459Z
UID:55263-1768953600-1769039999@www.fcslions.org
SUMMARY:Semester Finals
DESCRIPTION:
URL:https://www.fcslions.org/event/semester-finals-15/
END:VEVENT
END:VCALENDAR