BEGIN:VCALENDAR
VERSION:2.0
PRODID:-//Faith Christian School - ECPv6.15.18//NONSGML v1.0//EN
CALSCALE:GREGORIAN
METHOD:PUBLISH
X-WR-CALNAME:Faith Christian School
X-ORIGINAL-URL:https://www.fcslions.org
X-WR-CALDESC:Events for Faith Christian School
REFRESH-INTERVAL;VALUE=DURATION:PT1H
X-Robots-Tag:noindex
X-PUBLISHED-TTL:PT1H
BEGIN:VTIMEZONE
TZID:UTC
BEGIN:STANDARD
TZOFFSETFROM:+0000
TZOFFSETTO:+0000
TZNAME:UTC
DTSTART:20250101T000000
END:STANDARD
END:VTIMEZONE
BEGIN:VEVENT
DTSTART;TZID=UTC:20260106T143000
DTEND;TZID=UTC:20260106T153000
DTSTAMP:20260421T054255
CREATED:20251116T180803Z
LAST-MODIFIED:20251116T191446Z
UID:54656-1767709800-1767713400@www.fcslions.org
SUMMARY:ALL FACULTY MTG
DESCRIPTION:
URL:https://www.fcslions.org/event/all-faculty-mtg-3/
END:VEVENT
END:VCALENDAR